BEGIN:VCALENDAR
VERSION:2.0
PRODID:-//Care Platform - Πλατφόρμα ενδυνάμωσης και εκπαίδευσης τυπικών, άτυπων φροντιστών και ηλικιωμένων - ECPv6.2.8.2//NONSGML v1.0//EN
CALSCALE:GREGORIAN
METHOD:PUBLISH
X-WR-CALNAME:Care Platform - Πλατφόρμα ενδυνάμωσης και εκπαίδευσης τυπικών, άτυπων φροντιστών και ηλικιωμένων
X-ORIGINAL-URL:https://careplatform.co2gether.gr
X-WR-CALDESC:Care Platform - Πλατφόρμα ενδυνάμωσης και εκπαίδευσης τυπικών, άτυπων φροντιστών και ηλικιωμένων - Εκδηλώσεις
REFRESH-INTERVAL;VALUE=DURATION:PT1H
X-Robots-Tag:noindex
X-PUBLISHED-TTL:PT1H
BEGIN:VTIMEZONE
TZID:Europe/Moscow
BEGIN:STANDARD
TZOFFSETFROM:+0300
TZOFFSETTO:+0300
TZNAME:MSK
DTSTART:20230101T000000
END:STANDARD
END:VTIMEZONE
BEGIN:VEVENT
DTSTART;TZID=Europe/Moscow:20230601T180000
DTEND;TZID=Europe/Moscow:20230601T190000
DTSTAMP:20260421T185815
CREATED:20230530T083612Z
LAST-MODIFIED:20230530T083612Z
UID:9891-1685642400-1685646000@careplatform.co2gether.gr
SUMMARY:Τα συναισθήματα των φροντιστών και πως να τα διαχειριστούν
DESCRIPTION:Content is protected.
URL:https://careplatform.co2gether.gr/event/ta-synaisthimata-ton-frontiston-kai-pos-na-ta-diacheiristoyn/
CATEGORIES:Ψυχολογική υποστήριξη
END:VEVENT
END:VCALENDAR