BEGIN:VCALENDAR
VERSION:2.0
PRODID:-//Care Platform - Πλατφόρμα ενδυνάμωσης και εκπαίδευσης τυπικών, άτυπων φροντιστών και ηλικιωμένων - ECPv6.2.8.2//NONSGML v1.0//EN
CALSCALE:GREGORIAN
METHOD:PUBLISH
X-ORIGINAL-URL:https://careplatform.co2gether.gr
X-WR-CALDESC:Care Platform - Πλατφόρμα ενδυνάμωσης και εκπαίδευσης τυπικών, άτυπων φροντιστών και ηλικιωμένων - Εκδηλώσεις
REFRESH-INTERVAL;VALUE=DURATION:PT1H
X-Robots-Tag:noindex
X-PUBLISHED-TTL:PT1H
BEGIN:VTIMEZONE
TZID:Europe/Moscow
BEGIN:STANDARD
TZOFFSETFROM:+0300
TZOFFSETTO:+0300
TZNAME:MSK
DTSTART:20230101T000000
END:STANDARD
END:VTIMEZONE
BEGIN:VEVENT
DTSTART;TZID=Europe/Moscow:20230601T180000
DTEND;TZID=Europe/Moscow:20230601T190000
DTSTAMP:20260421T173407
CREATED:20230530T083612Z
LAST-MODIFIED:20230530T083612Z
UID:10000007-1685642400-1685646000@careplatform.co2gether.gr
SUMMARY:Τα συναισθήματα των φροντιστών και πως να τα διαχειριστούν
DESCRIPTION:Content is protected.
URL:https://careplatform.co2gether.gr/event/ta-synaisthimata-ton-frontiston-kai-pos-na-ta-diacheiristoyn/
CATEGORIES:Ψυχολογική υποστήριξη
END:VEVENT
BEGIN:VEVENT
DTSTART;TZID=Europe/Moscow:20230518T180000
DTEND;TZID=Europe/Moscow:20230518T190000
DTSTAMP:20260421T173407
CREATED:20230516T151815Z
LAST-MODIFIED:20230516T155011Z
UID:10000006-1684432800-1684436400@careplatform.co2gether.gr
SUMMARY:Η επιβάρυνση του φροντιστή
DESCRIPTION:Content is protected.
URL:https://careplatform.co2gether.gr/event/i-epivarynsi-toy-frontisti/
CATEGORIES:Ψυχολογική υποστήριξη
END:VEVENT
BEGIN:VEVENT
DTSTART;TZID=Europe/Moscow:20230515T100000
DTEND;TZID=Europe/Moscow:20230515T120000
DTSTAMP:20260421T173407
CREATED:20230511T081352Z
LAST-MODIFIED:20230511T081421Z
UID:10000005-1684144800-1684152000@careplatform.co2gether.gr
SUMMARY:Ομάδα Συνηγορίας και Προάσπισης των δικαιωμάτων της τρίτης ηλικίας
DESCRIPTION:Ομάδες συνηγορίας και προάσπισης των δικαιωμάτων της τρίτης ηλικίας\, με την νομικό-γεροντολόγο Δρ. Μαρία Ζαφειροπούλου. \nΟι ομάδες συνηγορίας και προάσπισης των δικαιωμάτων της τρίτης ηλικίας υλοποιούνται στο πλαίσιο του προγράμματος «Care Platform: Πλατφόρμα ενδυνάμωσης και εκπαίδευσης τυπικών\, άτυπων φροντιστών και ηλικιωμένων». To πρόγραμμα υλοποιείται από την 50και Ελλάς σε συνεργασία με την Co2gether καθώς και την αποκλειστική δωρεά του Ιδρύματος ΤΙΜΑ. \nΟι συναντήσεις των ομάδων θα πραγματοποιούνται δια ζώσης στα Β’ ΚΑΠΗ\, Πλατεία Παπανδρέου και διαδικτυακά. ρ
URL:https://careplatform.co2gether.gr/event/omada-synigorias-kai-proaspisis-ton-dikaiomaton-tis-tritis-ilikias/
LOCATION:Β’ ΚΑΠΗ Δ. Πατρέων\, Καζαντζάκη Νίκου 21\, Αγυιά Πάτρα\, Greece
CATEGORIES:Συνηγορία
ATTACH;FMTTYPE=image/jpeg:https://careplatform.co2gether.gr/wp-content/uploads/2023/05/banner_sinigoria_maios.jpg
END:VEVENT
BEGIN:VEVENT
DTSTART;TZID=Europe/Moscow:20230504T180000
DTEND;TZID=Europe/Moscow:20230504T190000
DTSTAMP:20260421T173407
CREATED:20230503T100559Z
LAST-MODIFIED:20230503T130945Z
UID:10000003-1683223200-1683226800@careplatform.co2gether.gr
SUMMARY:Ο ρόλος και οι ανάγκες του φροντιστή
DESCRIPTION:Content is protected.
URL:https://careplatform.co2gether.gr/event/o-rolos-kai-oi-anagkes-toy-frontisti/
CATEGORIES:Ψυχολογική υποστήριξη
END:VEVENT
END:VCALENDAR